BEGIN:VCALENDAR
VERSION:2.0
PRODID:-// - ECPv6.15.20//NONSGML v1.0//EN
CALSCALE:GREGORIAN
METHOD:PUBLISH
X-ORIGINAL-URL:https://fza.or.at
X-WR-CALDESC:Veranstaltungen für 
REFRESH-INTERVAL;VALUE=DURATION:PT1H
X-Robots-Tag:noindex
X-PUBLISHED-TTL:PT1H
BEGIN:VTIMEZONE
TZID:Europe/Berlin
BEGIN:DAYLIGHT
TZOFFSETFROM:+0100
TZOFFSETTO:+0200
TZNAME:CEST
DTSTART:20230326T010000
END:DAYLIGHT
BEGIN:STANDARD
TZOFFSETFROM:+0200
TZOFFSETTO:+0100
TZNAME:CET
DTSTART:20231029T010000
END:STANDARD
BEGIN:DAYLIGHT
TZOFFSETFROM:+0100
TZOFFSETTO:+0200
TZNAME:CEST
DTSTART:20240331T010000
END:DAYLIGHT
BEGIN:STANDARD
TZOFFSETFROM:+0200
TZOFFSETTO:+0100
TZNAME:CET
DTSTART:20241027T010000
END:STANDARD
BEGIN:DAYLIGHT
TZOFFSETFROM:+0100
TZOFFSETTO:+0200
TZNAME:CEST
DTSTART:20250330T010000
END:DAYLIGHT
BEGIN:STANDARD
TZOFFSETFROM:+0200
TZOFFSETTO:+0100
TZNAME:CET
DTSTART:20251026T010000
END:STANDARD
END:VTIMEZONE
BEGIN:VEVENT
DTSTART;TZID=Europe/Berlin:20240627T190000
DTEND;TZID=Europe/Berlin:20240627T210000
DTSTAMP:20260422T135357
CREATED:20240402T191633Z
LAST-MODIFIED:20240527T145407Z
UID:2322-1719514800-1719522000@fza.or.at
SUMMARY:Kulturtreff - Kritzel\, Klangbilder & Tschinkel Walls
DESCRIPTION:Wir laden zu unserem monatlichen Kulturtreff in die VHS Liesing\, Saal 3 im 2.Stock ein.… wie immer mit kleinem Buffet und freiem Eintritt! \n\n\n\nDiesmal zu Gast: Christian Tschinkel.  \n\n\n\nChristan Tschinkel ist akusmatischer Musiker\, doch 2020 trat plötzlich auch das Kritzeln in Erscheinung. Mit ihm tat sich ein kleinesvisuelles Paralleluniversum auf\, das dem Künstler das Konzept und die akusmatische Theorie des Klangbildes unterstreicht. Grafische Notation\, visualisierte Klangarchitektur\, Synästhesie und gestischer Ausdruck mit verbundenen Augen prägen diese Zeichnungen. Mittlerweile sind es bald 200. Eine kleine Auswahl aus seinen unterschiedlichen Kritzel-Kategorien zeigt Tschinkel in der VHS-Liesing. \n\n\n\nZur eigenen Lautsprechermusik wird er live vor Ort unter dem Einfluss der SciFi-Butoh-Tänzerin Monika Jantschnig aka Harley eine „blind“ gekritzelte Zeichnung anfertigen.
URL:https://fza.or.at/event/fza-kulturtreff-juni-2024/
LOCATION:VHS Liesing\, Liesinger Platz 3\, Wien\, 1230\, Österreich
ATTACH;FMTTYPE=image/jpeg:https://fza.or.at/wp-content/uploads/2024/04/acousmonuments_radio-goo-gooo.jpg
END:VEVENT
BEGIN:VEVENT
DTSTART;TZID=Europe/Berlin:20240628T133000
DTEND;TZID=Europe/Berlin:20240628T150000
DTSTAMP:20260422T135357
CREATED:20240618T060502Z
LAST-MODIFIED:20240618T061338Z
UID:2445-1719581400-1719586800@fza.or.at
SUMMARY:Fotowalk/Besichtigung Remise der Wiener Lokalbahnen in Inzersdorf
DESCRIPTION:Remise Inzersdorf\n\n\n\nLEIDER SCHON AUSGEBUCHT! \n\n\n\nWir dürfen als FZA Verein exklusiv die Remise der Wiener Lokalbahnen in Inzersdorf besichtigen und ausgiebig fotografieren. \n\n\n\nWir treffen unsum 13.30 Uhr am WLB-Bahnsteig Inzersdorf / Purkytgasse und werden von dort abgeholt. \n\n\n\nDa die Besucherzahl streng limitiert ist\, ersuchen wir bei Interesse um baldige Anmeldung unter verein@fza.or.at \n\n\n\nFür Mitglieder ist der Fotowalk gratis\, Kostenbeitrag für Nichtmitglieder: € 10\,-
URL:https://fza.or.at/event/fotowalk-besichtigung-remise-der-wiener-lokalbahnen-in-inzersdorf/
LOCATION:Remise der Wiener Lokalbahnen Inzersdorf\, Purkytgasse 1B\, Vienna\, 1130
ATTACH;FMTTYPE=image/jpeg:https://fza.or.at/wp-content/uploads/2024/06/FVZ8117medium_large.2x.1611352396.jpg
END:VEVENT
END:VCALENDAR