BEGIN:VCALENDAR
VERSION:2.0
PRODID:-// - ECPv6.15.20//NONSGML v1.0//EN
CALSCALE:GREGORIAN
METHOD:PUBLISH
X-ORIGINAL-URL:https://fza.or.at
X-WR-CALDESC:Veranstaltungen für 
REFRESH-INTERVAL;VALUE=DURATION:PT1H
X-Robots-Tag:noindex
X-PUBLISHED-TTL:PT1H
BEGIN:VTIMEZONE
TZID:Europe/Berlin
BEGIN:DAYLIGHT
TZOFFSETFROM:+0100
TZOFFSETTO:+0200
TZNAME:CEST
DTSTART:20230326T010000
END:DAYLIGHT
BEGIN:STANDARD
TZOFFSETFROM:+0200
TZOFFSETTO:+0100
TZNAME:CET
DTSTART:20231029T010000
END:STANDARD
BEGIN:DAYLIGHT
TZOFFSETFROM:+0100
TZOFFSETTO:+0200
TZNAME:CEST
DTSTART:20240331T010000
END:DAYLIGHT
BEGIN:STANDARD
TZOFFSETFROM:+0200
TZOFFSETTO:+0100
TZNAME:CET
DTSTART:20241027T010000
END:STANDARD
BEGIN:DAYLIGHT
TZOFFSETFROM:+0100
TZOFFSETTO:+0200
TZNAME:CEST
DTSTART:20250330T010000
END:DAYLIGHT
BEGIN:STANDARD
TZOFFSETFROM:+0200
TZOFFSETTO:+0100
TZNAME:CET
DTSTART:20251026T010000
END:STANDARD
END:VTIMEZONE
BEGIN:VEVENT
DTSTART;TZID=Europe/Berlin:20240515T190000
DTEND;TZID=Europe/Berlin:20240515T210000
DTSTAMP:20260422T120735
CREATED:20240402T191849Z
LAST-MODIFIED:20240410T194644Z
UID:2324-1715799600-1715806800@fza.or.at
SUMMARY:HudlerGrube: Vierhändige Klaviermusik - Eine Sommernacht im Mai
DESCRIPTION:Foto: Denis Knauf\n\n\n\nDas Klavierduo HudlerGrube (Renate Hudler und Karl Heinz Grube) spielt vierhändig Werke von Ludwig van Beethoven\, Franz Schubert\, Robert Schumann und Felix Mendelssohn Bartholdy. \n\n\n\n\nLudwig van Beethoven: Klaviersonate op. 6 D-Dur\n\n\n\nFranz Schubert: 4 Polonaisen op. 75\n\n\n\nRobert Schumann: Polonaise Nr. 4 B-Dur & Polonaise Nr. 7 g-Moll\n\n\n\nFelix Mendelssohn Bartholdy: Ouverture Ein Sommernachtstraum & Allegro brillant op. 92\n\n\n\n\nMendelssohn komponierte seinen Sommernachtstraum im jugendlichen Alter von nur 17 Jahren. Es zählt bis heute zu seinen bekanntesten Werken und die Version des Stücks für Klavier zu vier Händen ist eine dankenswerte Herausforderung für jedes Klavierduo. \n\n\n\nDer ebenfalls noch sehr junge Robert Schumann komponierte 18-jährig seine ersten Stücke unter dem Eindruck der vierhändigen Polonaisen seines Idols Franz Schubert. Seine 8 Polonaisen zu vier Händen wurden zu Lebzeiten des Komponisten nicht veröffentlicht\, Teile der Stücke wurden aber in Schumanns Klavierwerk Papillons op. 2 wiederverwendet. \n\n\n\nIn Beethovens einziger Sonate für Klavier zu vier Händen überwiegt der lyrische Tonfall. Ganz anders in Mendelssohns Allegro brillant op. 92: das Stück zeigt\, wie virtuose\, romantische Spieltechniken auch in vierhändiger Klaviermusik auf zwei Spieler aufgeteilt zum Einsatz kommen können. \n\n\n\nEs erwartet Sie ein Abend mit jugendlich-spritziger Klaviermusik der Romantik! \n\n\n\nÜber die Künstler: \n\n\n\nRenate Hudler studierte am Konservatorium Wien sowie an der Universität für Musik und darstellende Kunst Wien und veranstaltete im Jahr 2000 ihren ersten Klavierabend in der Yamaha Concert Hall in Wien. Seit da an ist sie gefragte Pianistin – Ihre Auftritte führten sie neben div. Europäischen Ländern auch bis in die USA und nach Korea. Außerdem lehrt sie an der Wiener Musikakademie. \n\n\n\nKarl Heinz Grube ist ein kanadisch-amerikanischer Pianist; er machte nach seinem Studium am De Anza College in Cupertino (er erhielt 2 Associate in Arts Diplome)\, der Santa Clara Universität u. am San Francisco Conservatory of Music ein Doktoratsstudium in Klavier (Ph.D. in Interpretation) in Brünn. Auch er trat bei zahlreichen Konzerten von Amerika bis Japan auf. \n\n\n\nRenate Hudler und Karl Heinz Grube lernten sich beim Aurora Chamber Music Festival in Schweden kennen und treten seit 2014 als Klavierduo auf. Eine Gemeinsamkeit\, die sie miteinander verbindet\, ist ihr Interesse an historischer Aufführungspraxis\, insbesondere in Bezug auf Tempoflexibilität und das Spielen historischer Flügel. Beide spezialisieren sich dabei auf Flügel des 19. Jahrhunderts. \n\n\n\nZuerst fügten sie vierhändige Stücke Konzertprogrammen hinzu\, in denen sie sonst abwechselnd solo spielten. Später folgten Konzerte\, die ausschließlich aus Musik für zwei Klaviere oder Klavier vierhändig bestanden.Zusammen gründeten sie das Klavierfestival Wotrubakirche\, ein Klavierfestival in Wien. \n\n\n\n2023 veröffentlichte das Klavierduo HudlerGrube eine CD mit vierhändiger Klaviermusik der Belle Époque\, gespielt auf einem Erard-Flügel von 1885. \n\n\n\nDas umfangreiche Repertoire der beiden Musiker reicht von François Couperin (1668-1733) bis Astor Piazzolla (1921-1992) – siehe unter hudlergrube.com \n\n\n\nKonzerttickets: bitte hier buchen \n\n\n\n\nStandard: € 19\,-\n\n\n\nFZA-Mitglied: € 10\,-\n\n\n\nSchüler/Student: € 10\,-
URL:https://fza.or.at/event/konzert/
LOCATION:Klaviersalon\, Endresstraße 18\, Endresstraße 18\, 1230 Wien\, Österreich
ATTACH;FMTTYPE=image/jpeg:https://fza.or.at/wp-content/uploads/2024/04/Screenshot-2024-04-07-215318.jpg
END:VEVENT
BEGIN:VEVENT
DTSTART;TZID=Europe/Berlin:20240523T190000
DTEND;TZID=Europe/Berlin:20240523T210000
DTSTAMP:20260422T120736
CREATED:20240402T191511Z
LAST-MODIFIED:20240521T152912Z
UID:2320-1716490800-1716498000@fza.or.at
SUMMARY:Kulturtreff - Lesung & Musik mit Sinowatz² und Andreas Kunzmann
DESCRIPTION:Wir laden zu unserem monatlichen Kulturtreff in die VHS Liesing\, Saal 3 im 2.Stock ein.… wie immer mit kleinem Buffet und freiem Eintritt! \n\n\n\nDiesmal werden die Autor*innen SINOWATZ² Humoriges lesen\, musikalisch begleitet von Andreas Kunzmann. \n\n\n\nMartina Sinowatz präsentiert Ausschnitte aus dem „Lustlexikon der Lust“ und anderes\, Klaus Sinowatz wird Gedichte und nicht zu lange Kurzgeschichten aus „Zweitwelt gerafft“ vortragen. Zusammen wollen sie die „Traumdialoge“ präsentieren. \n\n\n\nDazu dürfen wir uns über Melodien wie z.B. „Der dritte Mann“ oder die „James Bond-Signation“ – gespielt von Andreas Kunzmann – freuen!
URL:https://fza.or.at/event/fza-kulturtreff-mai-2024/
LOCATION:VHS Liesing\, Liesinger Platz 3\, Wien\, 1230\, Österreich
ATTACH;FMTTYPE=image/jpeg:https://fza.or.at/wp-content/uploads/2024/04/20240503_230300-scaled.jpg
END:VEVENT
END:VCALENDAR