BEGIN:VCALENDAR
VERSION:2.0
PRODID:-// - ECPv6.15.20//NONSGML v1.0//EN
CALSCALE:GREGORIAN
METHOD:PUBLISH
X-ORIGINAL-URL:https://fza.or.at
X-WR-CALDESC:Veranstaltungen für 
REFRESH-INTERVAL;VALUE=DURATION:PT1H
X-Robots-Tag:noindex
X-PUBLISHED-TTL:PT1H
BEGIN:VTIMEZONE
TZID:Europe/Berlin
BEGIN:DAYLIGHT
TZOFFSETFROM:+0100
TZOFFSETTO:+0200
TZNAME:CEST
DTSTART:20230326T010000
END:DAYLIGHT
BEGIN:STANDARD
TZOFFSETFROM:+0200
TZOFFSETTO:+0100
TZNAME:CET
DTSTART:20231029T010000
END:STANDARD
BEGIN:DAYLIGHT
TZOFFSETFROM:+0100
TZOFFSETTO:+0200
TZNAME:CEST
DTSTART:20240331T010000
END:DAYLIGHT
BEGIN:STANDARD
TZOFFSETFROM:+0200
TZOFFSETTO:+0100
TZNAME:CET
DTSTART:20241027T010000
END:STANDARD
BEGIN:DAYLIGHT
TZOFFSETFROM:+0100
TZOFFSETTO:+0200
TZNAME:CEST
DTSTART:20250330T010000
END:DAYLIGHT
BEGIN:STANDARD
TZOFFSETFROM:+0200
TZOFFSETTO:+0100
TZNAME:CET
DTSTART:20251026T010000
END:STANDARD
END:VTIMEZONE
BEGIN:VEVENT
DTSTART;TZID=Europe/Berlin:20240711T170000
DTEND;TZID=Europe/Berlin:20240711T190000
DTSTAMP:20260422T180654
CREATED:20240618T060956Z
LAST-MODIFIED:20240709T062423Z
UID:2449-1720717200-1720724400@fza.or.at
SUMMARY:Fotowalk/Besichtigung "Atzgersdorf im Blick" #1
DESCRIPTION:Aus Anlass der GB*-Ausschreibung zum Fotowettbewerb machen wir zwei Fotospaziergänge im Bezirksteil Atzgersdorf und erkunden Altbekanntes und Neues im Grätzel. \n\n\n\nPerfekt für alle\, die beim Fotowettbewerb mitmachen: Unser Spezialist Peter Kolros wird die Fotowalks begleiten und wertvolle Tipps und Tricks für das perfekte Motiv geben! Er hat vor einigen Jahren sein seit frühester Jugend betriebenes Hobby „Fotografie“ zum Gewerbe angemeldet und ist nun Pressefotograf bei Pepe-train-art sowie im Referat Social Media des Österreichischen Verband der Fotografie (ÖVF). \n\n\n\nAn diesem Tag besuchen wir zunächst die ehemalige Fassfabrik – und nunmehriges Zwischennutzungs-Areal „Reallabor Fassfabrik„. Wir treffen uns vor dem Einfahrtstor zur Fassfabrik\, Lastenstraße 19 und werden von dort abgeholt und durch das gesamte Areal geführt. Interessante Ein- und Ausblicke sind garantiert\, wenn wir die ehemaligen Hallen aus verschiedenen Perspektiven besichtigen werden! \n\n\n\nIm Anschluss besuchen wir das Atelier der Künstlerin Gabriele Kurzbauer bzw. ihre Galerie KUNST∞RAUM G.20\, wo sie ihre Werke präsentiert. \n\n\n\nIn den 1980er-Jahren hat sie bei einem mehrjährigen Aufenthalt in Athen ihre bis heute angewendete Collagetechnik entwickelt. Ihre Werke entstehen aus Stoff auf Canvas\, oder Stoff auf Holz. Verwendet wird ein Baumwollstoff\, der in eine Kleber-Leim-Mischung getaucht und dann nass verarbeitet wird. \n\n\n\nDer Fotowalk ist kostenlos! U.A.w.g.: verein@fza.or.at
URL:https://fza.or.at/event/fotowalk-besichtigung-atzgersdorf-im-blick-1/
LOCATION:Reallabor Fassfabrik\, Lastenstraße 19\, Vienna\, 1230
ATTACH;FMTTYPE=image/jpeg:https://fza.or.at/wp-content/uploads/2024/06/Fassfabrik_Kunstraum-kl-scaled.jpg
END:VEVENT
END:VCALENDAR